BEGIN:VCALENDAR
VERSION:2.0
PRODID:-//Cero Basura BCS - ECPv6.15.20//NONSGML v1.0//EN
CALSCALE:GREGORIAN
METHOD:PUBLISH
X-ORIGINAL-URL:https://cerobasurabcs.org
X-WR-CALDESC:Events for Cero Basura BCS
REFRESH-INTERVAL;VALUE=DURATION:PT1H
X-Robots-Tag:noindex
X-PUBLISHED-TTL:PT1H
BEGIN:VTIMEZONE
TZID:America/Mazatlan
BEGIN:STANDARD
TZOFFSETFROM:-0700
TZOFFSETTO:-0700
TZNAME:MST
DTSTART:20240101T000000
END:STANDARD
END:VTIMEZONE
BEGIN:VEVENT
DTSTART;TZID=America/Mazatlan:20250726T100000
DTEND;TZID=America/Mazatlan:20250726T143000
DTSTAMP:20260425T034249
CREATED:20250721T173801Z
LAST-MODIFIED:20250721T173801Z
UID:4463-1753524000-1753540200@cerobasurabcs.org
SUMMARY:Mercado Ranchero
DESCRIPTION:Alianza Cero Basura will be at Mercado Ranchero every Saturday 10:0o AM-2:30 PM. We will be accepting organic kitchen waste and glass\, and selling farm products like compost and lixiviate as well as glasses and buckets. We hope to see you there!
URL:https://cerobasurabcs.org/event/mercado-ranchero/
CATEGORIES:Local Businesses & Festivals
ATTACH;FMTTYPE=image/jpeg:https://cerobasurabcs.org/wp-content/uploads/2025/07/Mercado-Ranchero-Todos-Santos.jpg
END:VEVENT
END:VCALENDAR